BEGIN:VCALENDAR
VERSION:2.0
PRODID:-//ChamberMaster//Event Calendar 2.0//EN
METHOD:PUBLISH
X-PUBLISHED-TTL:P3D
REFRESH-INTERVAL:P3D
CALSCALE:GREGORIAN
BEGIN:VEVENT
DTSTART:20230523T163000Z
DTEND:20230523T180000Z
X-MICROSOFT-CDO-ALLDAYEVENT:FALSE
SUMMARY:2023 Local Elected Official Luncheon
DESCRIPTION:Hear from elected leadership including:\n\n	City of Galesburg Mayor\, Peter Schwartzman\n	Knox County Board Chair\, Jared Hawkinson\n	CUSD #205 Board President\, Courtney Rodriguez\n\nEnjoy lunch catered in during this panel discussion. Roundtables will be available after the panel session\, with various board and council members.
X-ALT-DESC;FMTTYPE=text/html:<br />\n<br />\n<br />\n<span style="font-size:16px\;"><strong><u>Hear from elected leadership including:</u></strong></span>\n<ul>\n	<li><strong><span style="font-size:16px\;">City of Galesburg Mayor\, Peter Schwartzman</span></strong></li>\n	<li><strong><span style="font-size:16px\;">Knox County Board Chair\, Jared Hawkinson</span></strong></li>\n	<li><strong><span style="font-size:16px\;">CUSD #205 Board President\, <span style="color: rgb(66\, 66\, 66)\; font-family: &quot\;Segoe UI&quot\;\, &quot\;Segoe UI Web (West European)&quot\;\, &quot\;Segoe UI&quot\;\, -apple-system\, BlinkMacSystemFont\, Roboto\, &quot\;Helvetica Neue&quot\;\, sans-serif\; white-space: nowrap\;">Courtney Rodriguez</span></span></strong></li>\n</ul>\n<span style="font-size:16px\;">Enjoy lunch catered in during this panel discussion.&nbsp\;Roundtables <strong>will be </strong>available after the panel session\, with various board and council members.</span>
LOCATION:Lake Storey Pavilion
UID:e.2977.5640
SEQUENCE:3
DTSTAMP:20260426T032019Z
URL:https://business.galesburg.org/events/details/2023-local-elected-official-luncheon-5640
END:VEVENT

END:VCALENDAR
