BEGIN:VCALENDAR
VERSION:2.0
PRODID:-//ChamberMaster//Event Calendar 2.0//EN
METHOD:PUBLISH
X-PUBLISHED-TTL:P3D
REFRESH-INTERVAL:P3D
CALSCALE:GREGORIAN
BEGIN:VEVENT
DTSTART;VALUE=DATE:20261101
DTEND;VALUE=DATE:20261102
TRANSP:TRANSPARENT
X-MICROSOFT-CDO-ALLDAYEVENT:TRUE
SUMMARY:2026 Small Business Season Media Partner
DESCRIPTION:Show your love for small businesses and the magic of the holiday season by becoming a Small Business Season Supporter! It's a simple and meaningful way to champion the local shops\, makers\, and entrepreneurs who keep our community vibrant. Your support helps celebrate the spirit of shopping local\, strengthens our local economy\, and spreads holiday cheer where it matters most.\n\n\n\nWhat comes with your support?\n\n	Logo placement in two months of promotional materials mixed throughout the season such as social media promotions\, newsletter marketing\, and on our homepage!\n	Includes a single social media organic share of your own social post promoting shopping small this season!\n	Includes inclusion in a group marketing e-blast showcasing your goods/services on a date leading up to the holiday!
X-ALT-DESC;FMTTYPE=text/html:<span style="font-size:16px\;">Show your love for small businesses&mdash\;and the magic of the holiday season&mdash\;by becoming a Small Business Season Supporter! It&rsquo\;s a simple and meaningful way to champion the local shops\, makers\, and entrepreneurs who keep our community vibrant. Your support helps celebrate the spirit of shopping local\, strengthens our local economy\, and spreads holiday cheer where it matters most.<br />\n<br />\nWhat comes with your support?</span>\n<ul>\n	<li><span style="font-size:16px\;"><span class="a_GcMg font-feature-liga-off font-feature-clig-off font-feature-calt-off text-decoration-none text-strikethrough-none" style="caret-color: rgb(34\, 52\, 106)\; --Ys-XuQ: none\; font-kerning: none\;">Logo placement in two months of promotional materials mixed throughout the season such as social media promotions\, newsletter marketing\, and on our homepage!</span></span></li>\n	<li><span style="font-size:16px\;"><span class="a_GcMg font-feature-liga-off font-feature-clig-off font-feature-calt-off text-decoration-none text-strikethrough-none" style="caret-color: rgb(34\, 52\, 106)\; --Ys-XuQ: none\; font-kerning: none\;">Includes a single social media organic share of your own social post promoting shopping small this season!</span></span></li>\n	<li><span style="font-size:16px\;"><span class="a_GcMg font-feature-liga-off font-feature-clig-off font-feature-calt-off text-decoration-none text-strikethrough-none" style="caret-color: rgb(34\, 52\, 106)\; --Ys-XuQ: none\; font-kerning: none\;">Includes inclusion in a group marketing e-blast showcasing your goods/services on a date leading up to the holiday!</span></span></li>\n</ul>\n<br />\n<br />\n&nbsp\;
LOCATION:
UID:e.2977.5797
SEQUENCE:3
DTSTAMP:20260419T222830Z
URL:https://business.galesburg.org/events/details/2026-small-business-season-media-partner-5797
END:VEVENT

END:VCALENDAR
