BEGIN:VCALENDAR
VERSION:2.0
PRODID:-//ChamberMaster//Event Calendar 2.0//EN
METHOD:PUBLISH
X-PUBLISHED-TTL:P3D
REFRESH-INTERVAL:P3D
CALSCALE:GREGORIAN
BEGIN:VEVENT
DTSTART:20190603T170000Z
DTEND:20190604T003000Z
X-MICROSOFT-CDO-ALLDAYEVENT:FALSE
SUMMARY:26th Annual Golf Outing - Galesburg Area Chamber & Galesburg Radio
DESCRIPTION:26th Annual Golf Outing - Galesburg Area Chamber & Galesburg Radio
X-ALT-DESC;FMTTYPE=text/html:26th Annual Golf Outing - Galesburg Area Chamber &amp\; Galesburg Radio&nbsp\;
LOCATION:Soangetaha Country Club 238 North Soangetaha Road Galesburg\, IL 61401
UID:e.2977.4803
SEQUENCE:3
DTSTAMP:20260425T184318Z
URL:https://business.galesburg.org/events/details/26th-annual-golf-outing-galesburg-area-chamber-galesburg-radio-4803
END:VEVENT

END:VCALENDAR
