BEGIN:VCALENDAR
VERSION:2.0
PRODID:-//ChamberMaster//Event Calendar 2.0//EN
METHOD:PUBLISH
X-PUBLISHED-TTL:P3D
REFRESH-INTERVAL:P3D
CALSCALE:GREGORIAN
BEGIN:VEVENT
DTSTART:20230601T220000Z
DTEND:20230602T000000Z
X-MICROSOFT-CDO-ALLDAYEVENT:FALSE
SUMMARY:Business After Hours - Klingner & Associates\, P.C.
DESCRIPTION:Sponsored by Klingner & Associates\, P.C.
X-ALT-DESC;FMTTYPE=text/html:<br />\n<br />\n<br />\n<br />\n<br />\n<span style="font-size:14px\;"><span style="font-family:tahoma\;"><span style="font-size:18px\;">Sponsored by Klingner &amp\; Associates\, P.C.</span></span></span>
LOCATION:Cherry Street Brewing Company in the restored Bier Garten How to find where to go: If entering from the front of the house\, use the stairs straight up to the event space. If entering from the back of the house\, use the stairs near the restrooms\, go around and up a short set of stairs to the event space.
UID:e.2977.5642
SEQUENCE:3
DTSTAMP:20260426T032112Z
URL:https://business.galesburg.org/events/details/business-after-hours-klingner-associates-p-c-5642
END:VEVENT

END:VCALENDAR
