BEGIN:VCALENDAR
VERSION:2.0
PRODID:-//ChamberMaster//Event Calendar 2.0//EN
METHOD:PUBLISH
X-PUBLISHED-TTL:P3D
REFRESH-INTERVAL:P3D
CALSCALE:GREGORIAN
BEGIN:VEVENT
DTSTART:20190627T220000Z
DTEND:20190628T000000Z
X-MICROSOFT-CDO-ALLDAYEVENT:FALSE
SUMMARY:Business After Hours - The Kensington
DESCRIPTION:Business After Hours\n\nSponsored by The Kensington
X-ALT-DESC;FMTTYPE=text/html:<span style="font-size:14px\;"><span style="font-family:tahoma\;">Business After Hours<br />\nSponsored by The Kensington</span></span>
LOCATION:311 E Simmons St Galesburg\, IL 61401
UID:e.2977.4755
SEQUENCE:3
DTSTAMP:20260425T201414Z
URL:https://business.galesburg.org/events/details/business-after-hours-the-kensington-4755
END:VEVENT

END:VCALENDAR
