BEGIN:VCALENDAR
VERSION:2.0
PRODID:-//ChamberMaster//Event Calendar 2.0//EN
METHOD:PUBLISH
X-PUBLISHED-TTL:P3D
REFRESH-INTERVAL:P3D
CALSCALE:GREGORIAN
BEGIN:VEVENT
DTSTART:20190607T123000Z
DTEND:20190607T140000Z
X-MICROSOFT-CDO-ALLDAYEVENT:FALSE
SUMMARY:Business Before Hours - Galesburg Wellness Center
DESCRIPTION:Business Before Hours\n\nSponsored by Galesburg Wellness Center
X-ALT-DESC;FMTTYPE=text/html:<span style="font-size:16px\;">Business Before Hours<br />\nSponsored by Galesburg Wellness Center</span>
LOCATION:575 N. Kellogg Street Suite #2 Galesburg\, IL 61401
UID:e.2977.4846
SEQUENCE:3
DTSTAMP:20260425T201544Z
URL:https://business.galesburg.org/events/details/business-before-hours-galesburg-wellness-center-4846
END:VEVENT

END:VCALENDAR
