BEGIN:VCALENDAR
VERSION:2.0
PRODID:-//ChamberMaster//Event Calendar 2.0//EN
METHOD:PUBLISH
X-PUBLISHED-TTL:P3D
REFRESH-INTERVAL:P3D
CALSCALE:GREGORIAN
BEGIN:VEVENT
DTSTART:20190619T190000Z
DTEND:20190619T200000Z
X-MICROSOFT-CDO-ALLDAYEVENT:FALSE
SUMMARY:Deep Dive into the Membership Information Center (Webinar)
DESCRIPTION:Join Jessica Linder\, executive director of the Galesburg Area Chamber\, as she does a deep dive into the Member Information Center. You will learn how to utilize this resource to help market your own business to other members. This will be presented via webinar\, so please join us from the luxury of your own office or the coffee shop.
X-ALT-DESC;FMTTYPE=text/html:Join Jessica Linder\, executive director of the Galesburg Area Chamber\, as she does a deep dive into the Member Information Center. You will learn how to utilize this resource to help market your own business to other members. This will be presented via webinar\, so please join us from the luxury of your own office or the coffee shop.&nbsp\;
LOCATION:Anywhere - this will be a webinar
UID:e.2977.4837
SEQUENCE:3
DTSTAMP:20260425T195939Z
URL:https://business.galesburg.org/events/details/deep-dive-into-the-membership-information-center-webinar-4837
END:VEVENT

END:VCALENDAR
