BEGIN:VCALENDAR
VERSION:2.0
PRODID:-//ChamberMaster//Event Calendar 2.0//EN
METHOD:PUBLISH
X-PUBLISHED-TTL:P3D
REFRESH-INTERVAL:P3D
CALSCALE:GREGORIAN
BEGIN:VEVENT
DTSTART:20190814T163000Z
DTEND:20190814T180000Z
X-MICROSOFT-CDO-ALLDAYEVENT:FALSE
SUMMARY:Dine & Develop: Top 3 Concerns for Business Owners
DESCRIPTION:You want to grow your business and make more profit\, but not sure how to grow. Maybe you?re tired of employees quitting and it?s costing you time\, money\, and profit. In this Dine and Develop workshop\, Matt Loehr of One Vision\, will go over the top three concerns that you have for your business: growth\, profits\, and turnover. Loehr will lead you through his relational leadership strategy and help you discover key threats to your business\, produce a new vision\, increase growth and profits\, and create loyal employees. If you?re looking to unleash the potential in your business\, join us for this workshop!
X-ALT-DESC;FMTTYPE=text/html:You want to grow your business and make more profit\, but not sure how to grow. Maybe you?re tired of employees quitting and it?s costing you time\, money\, and profit. In this Dine and Develop workshop\, Matt Loehr of One Vision\, will go over the top three concerns that you have for your business: growth\, profits\, and turnover. Loehr will lead you through his relational leadership strategy and help you discover key threats to your business\, produce a new vision\, increase growth and profits\, and create loyal employees. If you?re looking to unleash the&nbsp\;potential in your business\, join us for this workshop!
LOCATION:The Packinghouse 441 Mulberry Street Galesburg\, IL
UID:e.2977.4890
SEQUENCE:3
DTSTAMP:20260425T215257Z
URL:https://business.galesburg.org/events/details/dine-develop-top-3-concerns-for-business-owners-4890
END:VEVENT

END:VCALENDAR
