BEGIN:VCALENDAR
VERSION:2.0
PRODID:-//ChamberMaster//Event Calendar 2.0//EN
METHOD:PUBLISH
X-PUBLISHED-TTL:P3D
REFRESH-INTERVAL:P3D
CALSCALE:GREGORIAN
BEGIN:VEVENT
DTSTART:20190731T125000Z
DTEND:20190731T140000Z
X-MICROSOFT-CDO-ALLDAYEVENT:FALSE
SUMMARY:EFFECTIVE COMMUNICATION STRATEGIES
DESCRIPTION:Communication is more than just talking and listening-it's also about sending and receiving messages through attitude\, tone of voice\, facial expressions and body language. As people with Alzheimer's disease and other dementia's progress in their journey and the ability to use words is lost\, families need new ways to connect. Join us to explore how communication takes place when someone has Alzheimer's\, learn to decode the verbal and behavioral messages delivered by someone with dementia\, and identify strategies to help you connect and communicate at each stage of the disease.? This program is perfect for anyone who has any interaction with those living with dementia. Coffee will be provided! To Register Call 800.272.3900 or online at https://action.alz.org/PersonifyEbusiness/Default.aspx?TabID=1357&productid=45632654
X-ALT-DESC;FMTTYPE=text/html:Communication is more than just talking and listening-it&#39\;s also about sending and receiving messages through attitude\, tone of voice\, facial expressions and body language. As people with Alzheimer&#39\;s disease and other dementia&#39\;s progress in their journey and the ability to use words is lost\, families need new ways to connect. Join us to explore how communication takes place when someone has Alzheimer&#39\;s\, learn to decode the verbal and behavioral messages delivered by someone with dementia\, and identify strategies to help you connect and communicate at each stage of the disease.? This program is perfect for anyone who has any interaction with those living with dementia. Coffee will be provided! To Register Call 800.272.3900 or online at https://action.alz.org/PersonifyEbusiness/Default.aspx?TabID=1357&amp\;productid=45632654
LOCATION:Gordan Behrents Senior Center\, 2015 Windish Dr\, Galesburg\, IL.
UID:e.2977.4889
SEQUENCE:3
DTSTAMP:20260425T201101Z
URL:https://business.galesburg.org/events/details/effective-communication-strategies-4889
END:VEVENT

END:VCALENDAR
