BEGIN:VCALENDAR
VERSION:2.0
PRODID:-//ChamberMaster//Event Calendar 2.0//EN
METHOD:PUBLISH
X-PUBLISHED-TTL:P3D
REFRESH-INTERVAL:P3D
CALSCALE:GREGORIAN
BEGIN:VEVENT
DTSTART:20190615T180000Z
DTEND:20190615T210000Z
X-MICROSOFT-CDO-ALLDAYEVENT:FALSE
SUMMARY:Father's Day Fun!
DESCRIPTION:Create a card\, keychain and a picture frame for dad or grandpa for Father's Day!
X-ALT-DESC;FMTTYPE=text/html:Create a card\, keychain and a picture frame for dad or grandpa for Father&#39\;s Day!
LOCATION:Discovery Depot 128 S. Chambers St. Galesburg\, IL. 61401
UID:e.2977.4855
SEQUENCE:3
DTSTAMP:20260425T182210Z
URL:https://business.galesburg.org/events/details/father-s-day-fun-4855
END:VEVENT

END:VCALENDAR
