BEGIN:VCALENDAR
VERSION:2.0
PRODID:-//ChamberMaster//Event Calendar 2.0//EN
METHOD:PUBLISH
X-PUBLISHED-TTL:P3D
REFRESH-INTERVAL:P3D
CALSCALE:GREGORIAN
BEGIN:VEVENT
DTSTART:20190629T153000Z
DTEND:20190629T193000Z
X-MICROSOFT-CDO-ALLDAYEVENT:FALSE
SUMMARY:Fourth of July Stem Challenges!
DESCRIPTION:Create your own Air-powered fireworks\, Fizzing Stars\, Independence Day building structures!
X-ALT-DESC;FMTTYPE=text/html:Create your own Air-powered fireworks\, Fizzing Stars\, Independence Day building structures!
LOCATION:Discovery Depot 128 S. Chambers St. Galesburg\, IL. 61401
UID:e.2977.4856
SEQUENCE:3
DTSTAMP:20260425T200205Z
URL:https://business.galesburg.org/events/details/fourth-of-july-stem-challenges-4856
END:VEVENT

END:VCALENDAR
