BEGIN:VCALENDAR
VERSION:2.0
PRODID:-//ChamberMaster//Event Calendar 2.0//EN
METHOD:PUBLISH
X-PUBLISHED-TTL:P3D
REFRESH-INTERVAL:P3D
CALSCALE:GREGORIAN
BEGIN:VEVENT
DTSTART:20190601T153000Z
DTEND:20190601T173000Z
X-MICROSOFT-CDO-ALLDAYEVENT:FALSE
SUMMARY:Growing Up Green: Nature Prints!
DESCRIPTION:This program is free for members and Free + $8.00 admission fee for Non-members.
X-ALT-DESC;FMTTYPE=text/html:This program is free for members and Free + $8.00 admission fee for Non-members.
LOCATION:Discovery Depot 128 S. Chambers St. Galesburg\, IL.61401
UID:e.2977.4854
SEQUENCE:3
DTSTAMP:20260425T200030Z
URL:https://business.galesburg.org/events/details/growing-up-green-nature-prints-4854
END:VEVENT

END:VCALENDAR
