BEGIN:VCALENDAR
VERSION:2.0
PRODID:-//ChamberMaster//Event Calendar 2.0//EN
METHOD:PUBLISH
X-PUBLISHED-TTL:P3D
REFRESH-INTERVAL:P3D
CALSCALE:GREGORIAN
BEGIN:VEVENT
DTSTART:20190625T223000Z
DTEND:20190626T003000Z
X-MICROSOFT-CDO-ALLDAYEVENT:FALSE
SUMMARY:Hands on Minds on Family Night!
DESCRIPTION:Family night this month is bicycle safety and helmet giveaway! Members are free Non-members $2.00 admission fee.
X-ALT-DESC;FMTTYPE=text/html:Family night this month is bicycle safety and helmet giveaway! Members are free Non-members $2.00 admission fee.
LOCATION:Discovery Depot 128 S. Chambers St. Galesburg\, IL. 61401
UID:e.2977.4865
SEQUENCE:3
DTSTAMP:20260425T182853Z
URL:https://business.galesburg.org/events/details/hands-on-minds-on-family-night-06-25-2019-4865
END:VEVENT

END:VCALENDAR
