BEGIN:VCALENDAR
VERSION:2.0
PRODID:-//ChamberMaster//Event Calendar 2.0//EN
METHOD:PUBLISH
X-PUBLISHED-TTL:P3D
REFRESH-INTERVAL:P3D
CALSCALE:GREGORIAN
BEGIN:VEVENT
DTSTART:20190709T233000Z
DTEND:20190710T003000Z
X-MICROSOFT-CDO-ALLDAYEVENT:FALSE
SUMMARY:John Stevens Band @KCNH
DESCRIPTION:Join us at Knox County Nursing Home for live music from the John Stevens Band!
X-ALT-DESC;FMTTYPE=text/html:Join us at Knox County Nursing Home for live music from the John Stevens Band!
LOCATION:Knox County Nursing Home
UID:e.2977.4883
SEQUENCE:3
DTSTAMP:20260421T172521Z
URL:https://business.galesburg.org/events/details/john-stevens-band-kcnh-4883
END:VEVENT

END:VCALENDAR
