BEGIN:VCALENDAR
VERSION:2.0
PRODID:-//ChamberMaster//Event Calendar 2.0//EN
METHOD:PUBLISH
X-PUBLISHED-TTL:P3D
REFRESH-INTERVAL:P3D
CALSCALE:GREGORIAN
BEGIN:VEVENT
DTSTART:20190623T223000Z
DTEND:20190623T233000Z
X-MICROSOFT-CDO-ALLDAYEVENT:FALSE
SUMMARY:Kid's CANvas Club
DESCRIPTION:Join our Kid Style painting party and create your own masterpiece. Supplies and snacks are provided. Registration is required so call 309-344-8876 to sign up today! Cost $10.00 per painter!
X-ALT-DESC;FMTTYPE=text/html:Join our Kid Style painting party and create your own masterpiece. Supplies and snacks are provided. Registration is required so call 309-344-8876 to sign up today! Cost $10.00 per painter!
LOCATION:Discovery Depot 128 S. Chambers St. Galesburg\, IL. 61401
UID:e.2977.4864
SEQUENCE:3
DTSTAMP:20260425T184128Z
URL:https://business.galesburg.org/events/details/kid-s-canvas-club-06-23-2019-4864
END:VEVENT

END:VCALENDAR
