BEGIN:VCALENDAR
VERSION:2.0
PRODID:-//ChamberMaster//Event Calendar 2.0//EN
METHOD:PUBLISH
X-PUBLISHED-TTL:P3D
REFRESH-INTERVAL:P3D
CALSCALE:GREGORIAN
BEGIN:VEVENT
DTSTART:20190720T190000Z
DTEND:20190720T210000Z
X-MICROSOFT-CDO-ALLDAYEVENT:FALSE
SUMMARY:Lunar Landing Learning!
DESCRIPTION:Celebrate the 50th Anniversary of the Moon Landing! Space shuttle craft\, find out why the moon has so many craters\, and learn the phases of the moon. $8.00 per person admission fee.
X-ALT-DESC;FMTTYPE=text/html:Celebrate the 50th Anniversary of the Moon Landing! Space shuttle craft\, find out why the moon has so many craters\, and learn the phases of the moon. $8.00 per person admission fee.
LOCATION:Discovery Depot 128 S. Chambers St. Galesburg\, IL. 61401
UID:e.2977.4879
SEQUENCE:3
DTSTAMP:20260425T215102Z
URL:https://business.galesburg.org/events/details/lunar-landing-learning-4879
END:VEVENT

END:VCALENDAR
