BEGIN:VCALENDAR
VERSION:2.0
PRODID:-//ChamberMaster//Event Calendar 2.0//EN
METHOD:PUBLISH
X-PUBLISHED-TTL:P3D
REFRESH-INTERVAL:P3D
CALSCALE:GREGORIAN
BEGIN:VEVENT
DTSTART:20190618T180000Z
DTEND:20190620T193000Z
X-MICROSOFT-CDO-ALLDAYEVENT:FALSE
SUMMARY:Messy Science Summer Camp!
DESCRIPTION:Lava\, crystals\, slime and much more! Ages 5+ Registration is required so stop in or call 309-344-8876 Members $40.00 Non-members $45.00 This camp is for 3 days from 1 pm - 2:30 pm each day!
X-ALT-DESC;FMTTYPE=text/html:Lava\, crystals\, slime and much more! Ages 5+ Registration is required so stop in or call 309-344-8876 Members $40.00 Non-members $45.00 This camp is for 3 days from 1 pm - 2:30 pm each day!
LOCATION:Discovery Depot 128 S. Chambers St. Galesburg\, IL. 61401
UID:e.2977.4850
SEQUENCE:3
DTSTAMP:20260425T182118Z
URL:https://business.galesburg.org/events/details/messy-science-summer-camp-4850
END:VEVENT

END:VCALENDAR
