BEGIN:VCALENDAR
VERSION:2.0
PRODID:-//ChamberMaster//Event Calendar 2.0//EN
METHOD:PUBLISH
X-PUBLISHED-TTL:P3D
REFRESH-INTERVAL:P3D
CALSCALE:GREGORIAN
BEGIN:VEVENT
DTSTART:20190708T180000Z
DTEND:20190709T000000Z
X-MICROSOFT-CDO-ALLDAYEVENT:FALSE
SUMMARY:Mike Cratty Memorial Golf Outing Benefiting Costa Catholic Academy
DESCRIPTION:Golf Outing Benefiting Costa Catholic Academy.
X-ALT-DESC;FMTTYPE=text/html:Golf Outing Benefiting Costa Catholic Academy.
LOCATION:Lake Bracken Country Club
UID:e.2977.4881
SEQUENCE:3
DTSTAMP:20260425T202029Z
URL:https://business.galesburg.org/events/details/mike-cratty-memorial-golf-outing-benefiting-costa-catholic-academy-4881
END:VEVENT

END:VCALENDAR
