BEGIN:VCALENDAR
VERSION:2.0
PRODID:-//ChamberMaster//Event Calendar 2.0//EN
METHOD:PUBLISH
X-PUBLISHED-TTL:P3D
REFRESH-INTERVAL:P3D
CALSCALE:GREGORIAN
BEGIN:VEVENT
DTSTART:20190605T223000Z
DTEND:20190606T000000Z
X-MICROSOFT-CDO-ALLDAYEVENT:FALSE
SUMMARY:Play without Boundaries!
DESCRIPTION:Play without Boundaries is designed for special needs children and their families!
X-ALT-DESC;FMTTYPE=text/html:Play without Boundaries is designed for special needs children and their families!
LOCATION:Discovery Depot 128 S.Chambers St. Galesburg\, IL. 61401
UID:e.2977.4862
SEQUENCE:3
DTSTAMP:20260425T195821Z
URL:https://business.galesburg.org/events/details/play-without-boundaries-06-05-2019-4862
END:VEVENT

END:VCALENDAR
