BEGIN:VCALENDAR
VERSION:2.0
PRODID:-//ChamberMaster//Event Calendar 2.0//EN
METHOD:PUBLISH
X-PUBLISHED-TTL:P3D
REFRESH-INTERVAL:P3D
CALSCALE:GREGORIAN
BEGIN:VEVENT
DTSTART:20190622T180000Z
DTEND:20190622T210000Z
X-MICROSOFT-CDO-ALLDAYEVENT:FALSE
SUMMARY:Railroad Road Day 2019 at Discovery Depot!
DESCRIPTION:Discovery Depot BNSF Caboose is Free all day! Galesburg Toyota will feature their new ride and give away a key strap. Come inside and make a model train for $2.00 per train + $8.00 admission fee per person. And a special Visit from Abraham Lincoln.
X-ALT-DESC;FMTTYPE=text/html:Discovery Depot BNSF Caboose is Free all day! Galesburg Toyota will feature their new ride and give away a key strap. Come inside and make a model train for $2.00 per train + $8.00 admission fee per person. And a special Visit from Abraham Lincoln.
LOCATION:Discovery Depot 128 S.Chambers St. Galesburg\, IL. 61401
UID:e.2977.4861
SEQUENCE:3
DTSTAMP:20260425T183047Z
URL:https://business.galesburg.org/events/details/railroad-road-day-2019-at-discovery-depot-4861
END:VEVENT

END:VCALENDAR
