BEGIN:VCALENDAR
VERSION:2.0
PRODID:-//ChamberMaster//Event Calendar 2.0//EN
METHOD:PUBLISH
X-PUBLISHED-TTL:P3D
REFRESH-INTERVAL:P3D
CALSCALE:GREGORIAN
BEGIN:VEVENT
DTSTART:20190625T180000Z
DTEND:20190627T200000Z
X-MICROSOFT-CDO-ALLDAYEVENT:FALSE
SUMMARY:Ship Wrecked Summer Camp!
DESCRIPTION:Discovery the world of pirates\, sailors and mermaids! Ages 4+ Registration is required so stop in or call 309-344-8876. Members $40.00 Non-members $45.00 This camp is for 3 days from 1 pm - 3 pm each day!
X-ALT-DESC;FMTTYPE=text/html:Discovery the world of pirates\, sailors and mermaids! Ages 4+ Registration is required so stop in or call 309-344-8876. Members $40.00 Non-members $45.00 This camp is for 3 days from 1 pm - 3 pm each day!
LOCATION:Discovery Depot 128 S. Chambers St. Galesburg\, IL. 61401
UID:e.2977.4852
SEQUENCE:3
DTSTAMP:20260425T183348Z
URL:https://business.galesburg.org/events/details/ship-wrecked-summer-camp-4852
END:VEVENT

END:VCALENDAR
