BEGIN:VCALENDAR
VERSION:2.0
PRODID:-//ChamberMaster//Event Calendar 2.0//EN
METHOD:PUBLISH
X-PUBLISHED-TTL:P3D
REFRESH-INTERVAL:P3D
CALSCALE:GREGORIAN
BEGIN:VEVENT
DTSTART:20190727T130000Z
DTEND:20190727T190000Z
X-MICROSOFT-CDO-ALLDAYEVENT:FALSE
SUMMARY:Swing Fore a Cure
DESCRIPTION:7th Annual Swing Fore A Cure ALS Golf Tournament in Honor of Bryan Eklund Live Auction: White Iron Beach Resort Package valued at over $1\,700! *The Auction will also be available via Facebook Live Contests: -$10\,000 Hole in One Contest -$2\,500 Putting Contest*1/2 of proceeds will go to benefit the ALS Association Greater Chicago Chapter -Pin Contest -Bags Tournament -50/50 -Bake Sale -Raffle Prizes Proceeds benefit the ALS Association Greater Chicago Chapter serving persons living with ALS in Central Illinois\, Greater Chicago Area and Northern Illinois. For more information: www.alsachicago.org
X-ALT-DESC;FMTTYPE=text/html:7th Annual Swing Fore A Cure ALS Golf Tournament in Honor of Bryan Eklund Live Auction: White Iron Beach Resort Package valued at over $1\,700! *The Auction will also be available via Facebook Live Contests: -$10\,000 Hole in One Contest -$2\,500 Putting Contest*1/2 of proceeds will go to benefit the ALS Association Greater Chicago Chapter -Pin Contest -Bags Tournament -50/50 -Bake Sale -Raffle Prizes Proceeds benefit the ALS Association Greater Chicago Chapter serving persons living with ALS in Central Illinois\, Greater Chicago Area and Northern Illinois. For more information: www.alsachicago.org
LOCATION:Oak Run Golf Course 1468 Knox Rd 1725 N\, Dahinda\, IL 61428
UID:e.2977.4891
SEQUENCE:3
DTSTAMP:20260425T201714Z
URL:https://business.galesburg.org/events/details/swing-fore-a-cure-4891
END:VEVENT

END:VCALENDAR
