BEGIN:VCALENDAR
VERSION:2.0
PRODID:-//ChamberMaster//Event Calendar 2.0//EN
METHOD:PUBLISH
X-PUBLISHED-TTL:P3D
REFRESH-INTERVAL:P3D
CALSCALE:GREGORIAN
BEGIN:VEVENT
DTSTART:20230609T170000Z
DTEND:20230609T180000Z
X-MICROSOFT-CDO-ALLDAYEVENT:FALSE
SUMMARY:The Now Normal Series: Generational Diversity at Work
DESCRIPTION:The Now Normal Series is a personal development opportunity to get back to growing ourselves\, leaving into our teams and growing our businesses. This 5-part series is led by Dr. Pete Kehoe\, Executive Director of The John Maxwell Team and Kelly Poyner\, both locally from The Transformational Team.\n\n\n\nBased on the work of Dr Tim Elmore and his book A New Kind of Diversity\,  leader's and anyone on the team will gain an understanding of the different generations\, which can be up to FIVE generations in the workplace or within organizations today. Ideas will be presented to help leaders and co-workers to CONNECT with each generation\, which will enable the organization (or family) to get the most out of each generation.
X-ALT-DESC;FMTTYPE=text/html:<br />\n<br />\n<br />\n<br />\n<br />\n<br />\n<span style="font-size:16px\;"><span style="font-family:arial\;">The Now Normal Series is a personal development opportunity to get back to growing ourselves\, leaving into our teams and growing our businesses. This 5-part series is led by Dr. Pete Kehoe\, Executive Director of The John Maxwell Team and Kelly Poyner\, both locally from The Transformational Team.</span></span><br />\n<br />\n<span style="color: rgb(36\, 36\, 36)\; font-family: &quot\;Avenir Next LT Pro&quot\;\, sans-serif\; font-size: 16px\;">Based on the work of Dr Tim Elmore and his book&nbsp\;</span><i style="color: rgb(36\, 36\, 36)\; font-family: &quot\;Avenir Next LT Pro&quot\;\, sans-serif\; font-size: 16px\;">A New Kind of Diversity\,</i><span style="color: rgb(36\, 36\, 36)\; font-family: &quot\;Avenir Next LT Pro&quot\;\, sans-serif\; font-size: 16px\;">&nbsp\;&nbsp\;leader&rsquo\;s and anyone on the team will gain an understanding of the different generations\, which can be up to FIVE generations in the workplace or within organizations today. Ideas will be presented to help leaders and co-workers to CONNECT with each generation\, which will enable the organization (or family) to get the most out of each generation.</span><br />\n&nbsp\;
LOCATION:JIMMY'S PIZZA (side room) Prepare for a quick 60-minute lunch and aimed to pack a punch! Based on the work of Dr Tim Elmore and his book A New Kind of Diversity\, leader's and anyone on the team will gain an understanding of the different generations\, which can be up to FIVE generations in the workplace or within organizations today. Ideas will be presented to help leaders and co-workers to CONNECT with each generation\, which will enable the organization (or family) to get the most out of each generation. Reserve all four upcoming events in the series and receive a $10 discount when booked ahead of time! See RSVP selection!
UID:e.2977.5646
SEQUENCE:3
DTSTAMP:20260426T031930Z
URL:https://business.galesburg.org/events/details/the-now-normal-series-generational-diversity-at-work-5646
END:VEVENT

END:VCALENDAR
