BEGIN:VCALENDAR
VERSION:2.0
PRODID:-//ChamberMaster//Event Calendar 2.0//EN
METHOD:PUBLISH
X-PUBLISHED-TTL:P3D
REFRESH-INTERVAL:P3D
CALSCALE:GREGORIAN
BEGIN:VEVENT
DTSTART:20190604T223000Z
DTEND:20190605T000000Z
X-MICROSOFT-CDO-ALLDAYEVENT:FALSE
SUMMARY:Toddler Tuesdays
DESCRIPTION:Toddler Tuesdays are designed for Toddlers and their families!
X-ALT-DESC;FMTTYPE=text/html:Toddler Tuesdays are designed for Toddlers and their families!
LOCATION:Discovery Depot 128 S. Chambers St. Galesburg\, IL. 61401
UID:e.2977.4863
SEQUENCE:3
DTSTAMP:20260425T202212Z
URL:https://business.galesburg.org/events/details/toddler-tuesdays-06-04-2019-4863
END:VEVENT

END:VCALENDAR
