BEGIN:VCALENDAR
VERSION:2.0
PRODID:-//ChamberMaster//Event Calendar 2.0//EN
METHOD:PUBLISH
X-PUBLISHED-TTL:P3D
REFRESH-INTERVAL:P3D
CALSCALE:GREGORIAN
BEGIN:VEVENT
DTSTART:20190830T170000Z
DTEND:20190830T180000Z
X-MICROSOFT-CDO-ALLDAYEVENT:FALSE
SUMMARY:Two Heads are Better Than One
DESCRIPTION:According to the American Association of Retired Persons (AARP)\, "Americans 50 and older are worried about losing mental capacity." Research also shows that socialization supports thinking skills and may slow cognitive decline in later life. Come and join Extension Educator Tessa Hobbs-Curley as she helps participants to learn about the connection between social engagement and brain health and to also identify other lifestyle factors that contribute to brain health at any age. She will also lead participants through intellectual exercises that will challenge their noggins!!
X-ALT-DESC;FMTTYPE=text/html:According to the American Association of Retired Persons (AARP)\, &ldquo\;Americans 50 and older are worried about losing mental capacity.&rdquo\; Research also shows that socialization supports thinking skills and may slow cognitive decline in later life. Come and join Extension Educator Tessa Hobbs-Curley as she helps participants to learn about the connection between social engagement and brain health and to also identify other lifestyle factors that contribute to brain health at any age. She will also lead participants through intellectual exercises that will challenge their noggins!!
LOCATION:246 E. Main St. Suite 101 Galesburg\, IL 61401
UID:e.2977.4903
SEQUENCE:3
DTSTAMP:20260425T215532Z
URL:https://business.galesburg.org/events/details/two-heads-are-better-than-one-4903
END:VEVENT

END:VCALENDAR
