BEGIN:VCALENDAR
VERSION:2.0
PRODID:-//ChamberMaster//Event Calendar 2.0//EN
METHOD:PUBLISH
X-PUBLISHED-TTL:P3D
REFRESH-INTERVAL:P3D
CALSCALE:GREGORIAN
BEGIN:VEVENT
DTSTART:20190625T150000Z
DTEND:20190627T163000Z
X-MICROSOFT-CDO-ALLDAYEVENT:FALSE
SUMMARY:Unicorn Magic Summer Camp!
DESCRIPTION:Join the magical craze of Unicorns and Owls! Ages 5+ Registration is required so stop in or call 309-344-8876 Members $35.00 Non-members $40.00 This camp is for 3 days from 10 a m - 11:30 am. each day!
X-ALT-DESC;FMTTYPE=text/html:Join the magical craze of Unicorns and Owls! Ages 5+ Registration is required so stop in or call 309-344-8876 Members $35.00 Non-members $40.00 This camp is for 3 days from 10 a m - 11:30 am. each day!
LOCATION:Discovery Depot 128 S. Chambers St. Galesburg\, IL. 61401
UID:e.2977.4851
SEQUENCE:3
DTSTAMP:20260425T182215Z
URL:https://business.galesburg.org/events/details/unicorn-magic-summer-camp-4851
END:VEVENT

END:VCALENDAR
