BEGIN:VCALENDAR
VERSION:2.0
PRODID:-//ChamberMaster//Event Calendar 2.0//EN
METHOD:PUBLISH
X-PUBLISHED-TTL:P3D
REFRESH-INTERVAL:P3D
CALSCALE:GREGORIAN
BEGIN:VEVENT
DTSTART:20230417T220000Z
DTEND:20230417T233000Z
X-MICROSOFT-CDO-ALLDAYEVENT:FALSE
SUMMARY:Young Professional Network - Budgeting 101
DESCRIPTION:Want to learn the basics of budgeting? We do too! From single and family households to what debit to pay off first\, Randy Jones will coach us through simple budgeting tools. YPN members are Free and Non- members are $10 which will be reimbursed at check-in.
X-ALT-DESC;FMTTYPE=text/html:<h2><span style="font-size:20px\;"><span style="color: rgb(36\, 36\, 36)\; font-family: Calibri\, sans-serif\;">Want to learn the basics of budgeting? We do too! From single and family households to what debit to pay off first\, Randy Jones will coach us through simple budgeting tools. YPN members are Free and Non- members are $10 which will be reimbursed at check-in.</span></span></h2>\n
LOCATION:Carl Sandburg College
UID:e.2977.5635
SEQUENCE:3
DTSTAMP:20260426T000006Z
URL:https://business.galesburg.org/events/details/young-professional-network-budgeting-101-5635
END:VEVENT

END:VCALENDAR
