BEGIN:VCALENDAR
VERSION:2.0
PRODID:-//ChamberMaster//Event Calendar 2.0//EN
METHOD:PUBLISH
X-PUBLISHED-TTL:P3D
REFRESH-INTERVAL:P3D
CALSCALE:GREGORIAN
BEGIN:VEVENT
DTSTART:20190618T150000Z
DTEND:20190620T163000Z
X-MICROSOFT-CDO-ALLDAYEVENT:FALSE
SUMMARY:Zoom and Vroom Summer Camp!
DESCRIPTION:Design and build vehicles the MOVE! Boats\, planes\, trains and cars! Fast moving camp for those speedster lovers! Ages 4+ Registration is required so stop by or call 309-344-8876 Members $35.00 Non-members $40.00 This camp is for 3 days from 10 am - 11:30 each day!
X-ALT-DESC;FMTTYPE=text/html:Design and build vehicles the MOVE! Boats\, planes\, trains and cars! Fast moving camp for those speedster lovers! Ages 4+ Registration is required so stop by or call 309-344-8876 Members $35.00 Non-members $40.00 This camp is for 3 days from 10 am - 11:30 each day!
LOCATION:Discovery Depot 128 S. Chambers St. Galesburg\, IL. 61401
UID:e.2977.4849
SEQUENCE:3
DTSTAMP:20260425T182345Z
URL:https://business.galesburg.org/events/details/zoom-and-vroom-summer-camp-4849
END:VEVENT

END:VCALENDAR
